BEGIN:VCALENDAR
VERSION:2.0
X-WR-TIMEZONE:Europe/Paris
PRODID:-//Audencia//NONSGML v1.0//EN
CALSCALE:GREGORIAN
BEGIN:VEVENT
SUMMARY:Conférence Audencia Alumni Maroc
DTSTART:20200616T191500
DTEND:20200616T203000
UID:746
DTSTAMP:20260425T205838
LOCATION:
DESCRIPTION:Audencia Alumni Maroc a le plaisir de vous annoncer le lancement d'une série de conférences-vidéos animés par des mentors et des professionnels, de notre réseau Audencia ou d'ailleurs.\n\nPour cette première session, nous avons le plaisir d'accueillir M. Soufiane Erraji, auteur, conférencier et coach en développement personnel, qui animera une session au profit des membres d'Audencia Alumni (Maroc & Monde) sous le thème:\n \n"You Can Change the World!"\n\nLa session se tiendra par vidéo-conférence mardi 16 juin prochain à partir de 19h15 (heure de Rabat). Les informations et détails techniques vous seront transmis en début de semaine prochaine. Vous pouvez dès à présent vous inscrire en envoyant un message à Samia Tadlaoui ou à Yassine Belhoussain sur facebook, ou en envoyant un mail à yassine.belhoussain@gmail.com\n\nEn espérant vous y voir très nombreuses et nombreux.\nTrès bonne semaine à toutes et à tous.\n \n
BEGIN:VALARM
ACTION:DISPLAY
TRIGGER:-PT60M
DESCRIPTION:Conférence Audencia Alumni Maroc
END:VALARM
END:VEVENT
END:VCALENDAR