BEGIN:VCALENDAR
VERSION:2.0
X-WR-TIMEZONE:Europe/Paris
PRODID:-//Audencia//NONSGML v1.0//EN
CALSCALE:GREGORIAN
BEGIN:VEVENT
SUMMARY:WORLD 1ST : AUDENCIA OPENS ITS CHIEF VALUE OFFICER MBA!
DTSTART:20200630T143000
DTEND:20200630T153000
UID:745
DTSTAMP:20260425T210032
LOCATION:
DESCRIPTION:This new program is part of the world of tomorrow, and the emergence of the new profession "Chief Value Officer". Aimed at directors, administrators, members of corporate governance, and all those involved in finance and CSR, it will allow you to learn to no longer only take into account the financial impact of your business but to move to a 360 °, multi-capital vision.\n\nThis is why Audencia has developed, with Delphine Gibassier, a world-renowned expert in accounting for sustainable development, the only MBA in the world on the measurement, control and audit of global multi-capital performance: The MBA Chief Value Officer, built on 4 learning perspectives:\n\n1. Expert and business partner: understanding and integrating planetary boundaries and sustainable development goals (SDGs)\n\n2. Strategic thinking and forward-looking: understand and master the impact of technology on multi-capital accounting and have an international, strategic and political vision of multi-capital accounting methods\n\n3. Key contributor to business strategy: measure, control, report and audit all strategic capitals\n\n4. Architect of and force for change: supporting the ecological and social transition of business models\n\nDiscover what is at stake in this unique MBA during our Webinar on Tuesday June 30, from 1 p.m. to 2 p.m. (FR) and from 2:30 p.m. to 3:30 p.m. (EN).\n \n\nREGISTRATION
BEGIN:VALARM
ACTION:DISPLAY
TRIGGER:-PT60M
DESCRIPTION:WORLD 1ST : AUDENCIA OPENS ITS CHIEF VALUE OFFICER MBA!
END:VALARM
END:VEVENT
END:VCALENDAR