BEGIN:VCALENDAR
VERSION:2.0
X-WR-TIMEZONE:Europe/Paris
PRODID:-//Audencia//NONSGML v1.0//EN
CALSCALE:GREGORIAN
BEGIN:VEVENT
SUMMARY:1ère mondiale : Audencia ouvre son MBA Chief Value Officer
DTSTART:20200630T130000
DTEND:20200630T140000
UID:744
DTSTAMP:20260425T205818
LOCATION:
DESCRIPTION:Ce nouveau programme s’inscrit dans le monde de demain, et l’émergence du nouveau métier « Chief Value Officer ». Destiné aux dirigeants, administrateurs, membres de la gouvernance d'une entreprise, et tous les acteurs des métiers de la finance et de la RSE, il va vous permettre d’apprendre à ne plus seulement tenir compte de l’impact financier de votre entreprise mais de passer à une vision 360°, multi-capitaux.\n\nC'est pourquoi Audencia a élaboré avec Delphine Gibassier, experte mondialement reconnue en comptabilité durable, l'unique MBA au monde au monde sur la mesure, le contrôle et l’audit de la performance globale multi-capitaux : Le MBA Chief Value Officer, construit sur 4 axes d'apprentissage :\n\n\n	Expert et business partner : comprendre et intégrer les limites planétaires et les objectifs du développement durable\n	Stratège et tourné vers l’avenir : comprendre et maîtriser les impacts de la technologie sur la comptabilité multi-capitaux et avoir une vision internationale, stratégique et politique des méthodes de comptabilité multi-capitaux\n	Contributeur clé de la stratégie d’entreprise : mesurer, contrôler, reporter et auditer tous les capitaux stratégiques\n	Agent et architecte du changement : accompagner la transition écologique et sociale des business models\n\n\nDécouvrez tous les enjeux de ce MBA unique lors de notre Webinar le mardi 30 juin, de 13h à 14h (FR) et de 14h30 à 15h30 (EN).\n\nJE M'INSCRIS\nVotre contact privilégié : Christine GUERIN \n06 38 34 87 46\ncguerin@audencia.com
BEGIN:VALARM
ACTION:DISPLAY
TRIGGER:-PT60M
DESCRIPTION:1ère mondiale : Audencia ouvre son MBA Chief Value Officer
END:VALARM
END:VEVENT
END:VCALENDAR