BEGIN:VCALENDAR
VERSION:2.0
X-WR-TIMEZONE:Europe/Paris
PRODID:-//Audencia//NONSGML v1.0//EN
CALSCALE:GREGORIAN
BEGIN:VEVENT
SUMMARY:Sensibilisation sport et zéro déchet
DTSTART:20200611T190000
DTEND:20200611T203000
UID:743
DTSTAMP:20260425T211248
LOCATION:
DESCRIPTION:Le principe\n\nL’association environnementale Zero Waste Paris organise une session de sensibilisation sur le thème “sport et zéro déchet”.\nCes conférences s’adressent à des membres d’associations ou clubs, responsables du service des sports d’une collectivité locale, comités départementaux sportifs, fédérations sportives… Tous ces professionnel·les sont les bienvenu·es.\n\nLe programme\n\nL’équipe de Zero Waste Paris pourra vous apporter des réponses sur différents sujets tel que :\n\n\n	\n	En quoi consiste la démarche zéro déchet ? Quelle est l’utilité de l’appliquer à l’événementiel sportif ?\n	\n	\n	Comment la mettre en place concrètement dans votre structure ? Par quoi commencer ?\n	\n\n\nElle s’appuiera notamment sur le guide “Mon événement sportif Zéro déchet“, co-rédigé avec Zero Waste France et financé par la MAIF & la FFA – Fédération Française d’Athlétisme. Ce guide pratique comprend 12 solutions concrètes pour rendre votre événement éco-responsable en matière de gestion des déchets.\n\nLien d'inscription : https://bit.ly/2XBS6SD
BEGIN:VALARM
ACTION:DISPLAY
TRIGGER:-PT60M
DESCRIPTION:Sensibilisation sport et zéro déchet
END:VALARM
END:VEVENT
END:VCALENDAR