BEGIN:VCALENDAR
VERSION:2.0
X-WR-TIMEZONE:Europe/Paris
PRODID:-//Audencia//NONSGML v1.0//EN
CALSCALE:GREGORIAN
BEGIN:VEVENT
SUMMARY:Career Center LIVE: We will answer all your questions!
DTSTART:20200611T180000
DTEND:20200611T193000
UID:742
DTSTAMP:20260425T210031
LOCATION:
DESCRIPTION:Come and meet Anne-Sophie & Joanna, Career Center consultants, during this live. Take part in this special moment to ask us all your questions:\n\n\n	\n	Are you currently seeking an internship, a job? Are you thinking about your professional project?\n	\n	\n	Are you looking for advice concerning your networking approach, application, pitch?\n	\n	\n	Are you preparing for an interview, wanting to negotiate your salary? \n	\n\n\n \nThis event is made for you. Join us live!\n \n\nTo register, kindly send an email to tboitel@audencia.com \nand remember to mention the name and the date of the webinar\n \n\n
BEGIN:VALARM
ACTION:DISPLAY
TRIGGER:-PT60M
DESCRIPTION:Career Center LIVE: We will answer all your questions!
END:VALARM
END:VEVENT
END:VCALENDAR