BEGIN:VCALENDAR
VERSION:2.0
X-WR-TIMEZONE:Europe/Paris
PRODID:-//Audencia//NONSGML v1.0//EN
CALSCALE:GREGORIAN
BEGIN:VEVENT
SUMMARY:Career Center LIVE : Nous répondons à toutes vos questions !
DTSTART:20200609T180000
DTEND:20200609T193000
UID:741
DTSTAMP:20260425T205816
LOCATION:
DESCRIPTION:Venez rencontrer Agnès et Julien, consultants/Coach du Career Center, lors de ce live. Profitez de ce moment riche d’échanges et de partages pour leur poser toutes vos questions :\n\n\n	\n	Vous êtes en recherche active ? Vous vous interrogez sur votre projet professionnel ?\n	\n	\n	Vous souhaitez des conseils sur votre approche réseau, vos outils de candidatures, votre pitch ?\n	\n	\n	Vous allez passer un entretien, négocier votre salaire ?\n	\n\n\n\nCe live est fait pour vous ! Venez nombreux !\n \nCette session se tiendra via Microsoft Teams - Un lien de connexion vous sera adressé le jour même.\n \n\nInscription par mail à tboitel@audencia.com \nen indiquant le nom de la session et la date\n\n\n
BEGIN:VALARM
ACTION:DISPLAY
TRIGGER:-PT60M
DESCRIPTION:Career Center LIVE : Nous répondons à toutes vos questions !
END:VALARM
END:VEVENT
END:VCALENDAR