BEGIN:VCALENDAR
VERSION:2.0
X-WR-TIMEZONE:Europe/Paris
PRODID:-//Audencia//NONSGML v1.0//EN
CALSCALE:GREGORIAN
BEGIN:VEVENT
SUMMARY:Picnic and pétanque in Montreal, Canada
DTSTART:20170909T130000
DTEND:20170909T180000
UID:74
DTSTAMP:20260425T205724
LOCATION:Parc Lafontaine 3933, avenue du Parc-La Fontaine  Montréal (Québec) H2L 0C7
DESCRIPTION:Are you living in or near Montréal?\n\nFor the third year in a row, alumni from French Grandes Ecoles are meeting for a picnic and a pétanque tournament on\n \nSaturday 9th September from 13.00\n\nTell your friends, sign up here via Eventbrite and join the group at the Parc Lafontaine!\n\n
BEGIN:VALARM
ACTION:DISPLAY
TRIGGER:-PT60M
DESCRIPTION:Picnic and pétanque in Montreal, Canada
END:VALARM
END:VEVENT
END:VCALENDAR