BEGIN:VCALENDAR
VERSION:2.0
X-WR-TIMEZONE:Europe/Paris
PRODID:-//Audencia//NONSGML v1.0//EN
CALSCALE:GREGORIAN
BEGIN:VEVENT
SUMMARY:Webinar - Accounting for a post-pandemic world
DTSTART:20200616T150000
DTEND:20200616T160000
UID:739
DTSTAMP:20260425T210151
LOCATION:
DESCRIPTION:What kind of accountancy we would like to develop in the post pandemic world? \n\nIn the webinar organized by The International Research Centre on Multi-Capital Integrated Performance of Audencia, we will present ideas for a new accountancy system and will present two practical  ”tools” that you can use tomorrow.\n \n\n	Dr. Delphine Gibassier, Research centre Director, Audencia\n\nAccountancy for a post-pandemic world\nWe need a new accounting for the post-pandemic world. We are currently blind. For tomorrow, organizations, private or public, must have a 360 ° vision through multi-capital (financial, natural, social, human, intellectual, etc.). Delphine Gibassier will present the project of the International Research Centre to respond to this new world.\n \n\n	Dr Geoff Kendall, Co-founder and CEO, Future Fit Business\n\nSystem Value – Future Fit for the post pandemic world\nGeoff Kendall will present what « System Value » means: Business in no way hinders – and ideally contributes to – society’s progress toward future-fitness, and the Future Fit Benchmark: 23 social and environmental goals together identify the extra-financial break-even point every business must eventually reach to ensure it protects people and the planet.\n \n\n	Mark W. McElroy, Ph.D., Founding Director |Center for Sustainable Organizations\n\nThe Doughnut MultiCapital Scorecard\nMark McElroy has created an adaptation of the MultiCapital Scorecard that is configured with 29 indicators taken directly from the Doughnut Economics model (Kate Raworth, 2017), each of which corresponds to a social, economic or environmental threshold that must be adhered to in order for an economy or society to be sustainable. He will present the new scorecard.\n\nRegister here
BEGIN:VALARM
ACTION:DISPLAY
TRIGGER:-PT60M
DESCRIPTION:Webinar - Accounting for a post-pandemic world
END:VALARM
END:VEVENT
END:VCALENDAR