BEGIN:VCALENDAR
VERSION:2.0
X-WR-TIMEZONE:Europe/Paris
PRODID:-//Audencia//NONSGML v1.0//EN
CALSCALE:GREGORIAN
BEGIN:VEVENT
SUMMARY:WEBINAR : 3 étapes pour booster ta candidature et réussir tes entretiens en startup
DTSTART:20200603T143000
DTEND:20200603T160000
UID:738
DTSTAMP:20260425T205906
LOCATION:
DESCRIPTION:On vous donne RDV le mercredi 3 juin à 14h30 pour un webinar de folie avec Nicolas, CEO & Founder de JOB4 et Cécile notre Senior Sales & HeadHunter EMEA !\n\nAu programme :\n\n> 10 tips pour un CV au top\n> La lettre de motivation, top ou flop ?\n> Passer l’entretien haut la main (même à distance)\n> Coaching en live d’un ou deux CV\n> Questions & Réponses\n\nPour t’inscrire ? https://lnkd.in/grek_ER\n\nBonus ? : Cécile et Nicolas vont coacher une ou deux personnes en live. Les gagnants seront tirés au sort parmi les commentaires, alors n’hésite pas à nous laisser un petit mot ?
BEGIN:VALARM
ACTION:DISPLAY
TRIGGER:-PT60M
DESCRIPTION:WEBINAR : 3 étapes pour booster ta candidature et réussir tes entretiens en startup
END:VALARM
END:VEVENT
END:VCALENDAR