BEGIN:VCALENDAR
VERSION:2.0
X-WR-TIMEZONE:Europe/Paris
PRODID:-//Audencia//NONSGML v1.0//EN
CALSCALE:GREGORIAN
BEGIN:VEVENT
SUMMARY:Club Consulting : Le conseil et la crise
DTSTART:20200707T180000
DTEND:20200707T190000
UID:736
DTSTAMP:20260425T205734
LOCATION:
DESCRIPTION:La crise actuelle que nous traversons a modifié nos habitudes de travail et notre façon d'interagir avec nos clients. Le conseil n'échappe pas à la règle et une période d'incertitude s'ouvre pour les prochains mois à venir. \n\nLe Club Consulting vous propose une visio conférence le mardi 7 juillet à 18h00 qui permettra dans un premier temps un partage des expériences de vie de consultants pendant cette période de confinement. Nous aborderons ensuite quelques recommandations aux consultants en poste et aux étudiants diplômés en quête d'un poste dans le conseil.\n \n\nLe lien pour cet échange : Rejoindre la réunion Microsoft Teams
BEGIN:VALARM
ACTION:DISPLAY
TRIGGER:-PT60M
DESCRIPTION:Club Consulting : Le conseil et la crise
END:VALARM
END:VEVENT
END:VCALENDAR