BEGIN:VCALENDAR
VERSION:2.0
X-WR-TIMEZONE:Europe/Paris
PRODID:-//Audencia//NONSGML v1.0//EN
CALSCALE:GREGORIAN
BEGIN:VEVENT
SUMMARY:Virtual career fair season finale: live events & talks
DTSTART:20200603T000000
DTEND:20200603T235900
UID:731
DTSTAMP:20260425T205947
LOCATION:
DESCRIPTION:Attend a virtual career fair this spring!\n\nWhether you are a student or an alum, if you are interested in pursuing graduate programmes, sourcing internships or identifying experienced hire opportunities, then the virtual career fair series is for you.\n\nEFMD (European Foundation for Management Development) and Highered have mobilised forces and launched the EFMD Virtual Career Fair Series by Highered. This initiative allows EFMD member schools like Audencia to connect their students and alumni with companies and organisations from around the globe, in a sophisticated job fair simulation environment that enables real-time interaction between recruiters and candidates.\n\nOn Wednesday 3 June, you will be able to engage with the recruiters in both the public and private chats, in addition to participating in live company presentations and view seminars.\n\nTargeted profiles:\n\n	Current students seeking internships\n	Students and recent graduates seeking graduate programme and/or full-time opportunities\n	Alumni seeking experienced hire positions\n\n \n\nTo participate in the virtual career fair season finale on 3 June\ncreate your account on\nAudencia's Highered Global Job platform \n(then go to the tab called EFMD Virtual Career Fairs)\n\n \n\n \n\n\n\n \n\n\n \n\n\n\n 
BEGIN:VALARM
ACTION:DISPLAY
TRIGGER:-PT60M
DESCRIPTION:Virtual career fair season finale: live events & talks
END:VALARM
END:VEVENT
END:VCALENDAR