BEGIN:VCALENDAR
VERSION:2.0
X-WR-TIMEZONE:Europe/Paris
PRODID:-//Audencia//NONSGML v1.0//EN
CALSCALE:GREGORIAN
BEGIN:VEVENT
SUMMARY:Alumni afterwork and brainstorming session in Tokyo, Japan
DTSTART:20170830T193000
DTEND:20170830T220000
UID:73
DTSTAMP:20260425T223812
LOCATION:Tokyo chiyoda kanda nishikicho 3-21 chiyoda platform square
DESCRIPTION: \nWe need your help with fresh and original ideas about the future of Japan Audencia Alumni!\n \n\nCome along to a brainstorming session on Wednesday 30th August from 19:30 to 20:30 at Baptiste’s office (see details below). All ideas are more than welcome as we will discuss a wide range of topics such as the goals and added value of Audencia Japanese alumni network, its organisation, target audience and type of events for the future.\n \nThe brainstorming session will be followed by an informal drink.\nIf the weather is good it will be on the rooftop of Baptiste’s office.\n \nDate: Wednesday 30th August\nTime:\n- Brainstorming 19:30 to 20:30\n- Informal drink 20:30 to 〜22:00\nPlace: Tokyo chiyoda kanda nishikicho 3-21 chiyoda platform square\n\nMap: https://goo.gl/maps/QaSx9XoKHDu\n \nHope to see many of you!\nAudencia Alumni Japan\n \n \n皆様、\n \nAudencia Alumni Japan の将来を一緒に考えましょう！\n \n8月30日（水）19時30からBaptiste のオフィスでブレインストーミングを行います。\nぜひ参加して皆さんの意見を聞かせてください！\n \n幅広いトピック（Audencia Alumni Japan の目的、付加価値、構造、将来のイベントやそのイベントに参加して欲しい人のターゲット等）を予定しています。\nブレインストーミングの後に飲み会も行う予定です。\n天気が良ければ、Baptiste のオフィスのルーフバルコニーで行いたいと思っています。\nこちらにも是非ご参加ください。\n \n日時: 8月30日（水）\n19時30分〜20時30分: ブレインストーミング\n20時30分〜22時: 飲み会\n場所: 〒101-0054 東京都千代田区神田錦町3－21ちよだプラットフォームスクウェア\n\n地図: https://goo.gl/maps/QaSx9XoKHDu\n \nご参加、お待ちしています！\nAudenciaOB局
BEGIN:VALARM
ACTION:DISPLAY
TRIGGER:-PT60M
DESCRIPTION:Alumni afterwork and brainstorming session in Tokyo, Japan
END:VALARM
END:VEVENT
END:VCALENDAR