BEGIN:VCALENDAR
VERSION:2.0
X-WR-TIMEZONE:Europe/Paris
PRODID:-//Audencia//NONSGML v1.0//EN
CALSCALE:GREGORIAN
BEGIN:VEVENT
SUMMARY:Career Center : Webinar : Salary Negotiation
DTSTART:20200604T180000
DTEND:20200604T193000
UID:729
DTSTAMP:20260425T210048
LOCATION:
DESCRIPTION:Interview questions and styles may change from business to business however there are questions that are commonly known to be asked at most interviews.\n\nJoin the workshop to discover and train for these basic-must-know questions.\n\nThis webinar will be on Microsoft Teams. You will receive a link before the session.\n \n\nTo register, kindly send an email to tboitel@audencia.com \nand remember to mention the name and the date of the webinar\n\n\n\n\n\n 
BEGIN:VALARM
ACTION:DISPLAY
TRIGGER:-PT60M
DESCRIPTION:Career Center : Webinar : Salary Negotiation
END:VALARM
END:VEVENT
END:VCALENDAR