BEGIN:VCALENDAR
VERSION:2.0
X-WR-TIMEZONE:Europe/Paris
PRODID:-//Audencia//NONSGML v1.0//EN
CALSCALE:GREGORIAN
BEGIN:VEVENT
SUMMARY:Career Center : Webinar : Négociation salariale
DTSTART:20200602T180000
DTEND:20200602T193000
UID:728
DTSTAMP:20260425T210052
LOCATION:
DESCRIPTION:Audencia Careers vous propose un quiz pour tester vos connaissances sur la posture à adopter pour négocier votre salaire dans les meilleures conditions! Prêts à relever le challenge? \n#tips #efficiency #interactive\n\nCe webinar se tiendra via Microsoft Teams - Un lien de connexion vous sera adressé le jour même.\n \n\nInscription par mail à tboitel@audencia.com \nen indiquant le nom et la date de la session\n\n\n\n
BEGIN:VALARM
ACTION:DISPLAY
TRIGGER:-PT60M
DESCRIPTION:Career Center : Webinar : Négociation salariale
END:VALARM
END:VEVENT
END:VCALENDAR