BEGIN:VCALENDAR
VERSION:2.0
X-WR-TIMEZONE:Europe/Paris
PRODID:-//Audencia//NONSGML v1.0//EN
CALSCALE:GREGORIAN
BEGIN:VEVENT
SUMMARY:Career Center : Webinar : Optimize your skype and telephone interviews
DTSTART:20200528T180000
DTEND:20200528T193000
UID:727
DTSTAMP:20260425T205907
LOCATION:
DESCRIPTION:Audencia Careers reveals useful tips to ace your phone & skype interviews.\nYour first contact with a recruiter is crucial. You only have one chance of leaving a good first impression… Come join us ! #tailored #secrets #dynamic\n\nThis webinar will be on Microsoft Teams. You will receive a link before the session.\n\nTo register, kindly send an email to tboitel@audencia.com \nand remember to mention the name and the date of the webinar\n\n\n
BEGIN:VALARM
ACTION:DISPLAY
TRIGGER:-PT60M
DESCRIPTION:Career Center : Webinar : Optimize your skype and telephone interviews
END:VALARM
END:VEVENT
END:VCALENDAR