BEGIN:VCALENDAR
VERSION:2.0
X-WR-TIMEZONE:Europe/Paris
PRODID:-//Audencia//NONSGML v1.0//EN
CALSCALE:GREGORIAN
BEGIN:VEVENT
SUMMARY:TEDxConversation : Et si l’écologie nous ouvrait le monde d’après ?
DTSTART:20200526T180000
DTEND:20200526T193000
UID:726
DTSTAMP:20260425T205956
LOCATION:
DESCRIPTION:Et si l’Ecologie nous ouvrait le monde d’après ?\n\nQuelles leçons tirer de cette période inédite dans notre rapport à la Planète, dans la manière dont chacun.e peut s'engager à titre individuel et collectif ? Comment s'engager, avec le cœur autant que l'esprit, pour sauver et prendre soin de la beauté du Vivant dont nous sommes tout.e.s un fragment ?\n\nLa crise sanitaire révèle une prise de conscience sur l'urgence écologique et sur le sens de nos vies dans la société. Individuellement et collectivement, nous cherchons sa signification, la direction qu'elle indique dans les actions que chacun met en place, ou devrait mettre en place, pour préserver notre environnement.\nCe que nous avons pu faire pour préserver notre santé révèle des possibles dans les actions déjà à l'œuvre, dans l'invention de nouvelles, et dans l'arrêt de certaines pratiques.\n\nWalter Bouvais, entrepreneur, auteur et conférencier, cofondateur depuis 2018 d'Open Lande, une communauté d'individus et d'organisations qui mettent leur talent et leur métier au service de projets à impact social et environnemental positif, installé au cœur de Nantes.\n\nRDV ce mardi 26 mai 18h. Inscription au Facebook Live : https://lnkd.in/enSKP7t
BEGIN:VALARM
ACTION:DISPLAY
TRIGGER:-PT60M
DESCRIPTION:TEDxConversation : Et si l’écologie nous ouvrait le monde d’après ?
END:VALARM
END:VEVENT
END:VCALENDAR