BEGIN:VCALENDAR
VERSION:2.0
X-WR-TIMEZONE:Europe/Paris
PRODID:-//Audencia//NONSGML v1.0//EN
CALSCALE:GREGORIAN
BEGIN:VEVENT
SUMMARY:EXPLORACTION #1 : Let's catch TED
DTSTART:20200525T180000
DTEND:20200529T180000
UID:725
DTSTAMP:20260425T210142
LOCATION:
DESCRIPTION:BE A PLAYER !\nINSCRIVEZ-VOUS gratuitement pour accéder aux fiches mémo, méthodo, Interview, bonus, à retrouver sur notre Slack dédié.\n& VENEZ PROGRESSER À NOS COTÉS\n\nCapsule de contenus à prendre chaque jour pendant 1 semaine pour accélérer vos pensées ou projets !\n\nDu lundi 25 au vendredi 29 mai 2020\nSur l'Instagram @catchthinking + Slack dédié pour retrouver des ressources bonus.\nhttps://www.instagram.com/catchthinking/\n\nRetrouvez-nous vite pour échanger ! Pour vous inscrire, remplissez le formulaire ci-dessous, suivez nous sur Instagram & faites passer le mot à votre team :)\nhttps://docs.google.com/forms/d/e/1FAIpQLSfVbuieA7CRwLz1uatqO4WJKi41o6qHSBdGmj3Zypp6jHJ7sA/viewform\n\n\n〰️ 1 fil rouge traité sur une semaine\n? 5 contenus forts TED Talks\n? des témoignages croisés d’intervenants\n? un espace d’échange\n✏️ des mises en pratique\n? des fiches mémo\n? & des méthodo concrètes\n? le tout avec une gestion du temps optimale grâce à nos raccourcis !\n\n------------------------------------\n\n1. LUNDI > "How to succeed? get more sleep!" Arianna Huffington 3’39”\n2. MARDI > "Looks aren’t everything. believe me I’m a model". Cameron Russel 9’18”\n3. MERCREDI > "4 lessons in creativity" Julie burstein 17’04”\n4. JEUDI > "An ER doctor on triaging your crazy busy” life 11’35”\n5. VENDREDI > "How great leaders inspire action" Simon Sinek 17’49”\n=>> BONUS EXCLUSIF > SAMEDI & DIMANCHE
BEGIN:VALARM
ACTION:DISPLAY
TRIGGER:-PT60M
DESCRIPTION:EXPLORACTION #1 : Let's catch TED
END:VALARM
END:VEVENT
END:VCALENDAR