BEGIN:VCALENDAR
VERSION:2.0
X-WR-TIMEZONE:Europe/Paris
PRODID:-//Audencia//NONSGML v1.0//EN
CALSCALE:GREGORIAN
BEGIN:VEVENT
SUMMARY:Webinar : Priorités de la fonction Finance (dé)confinée – à quoi ressemble une clôture mensuelle à la lumière du (dé)confinement ?
DTSTART:20200610T110000
DTEND:20200610T120000
UID:724
DTSTAMP:20260425T205952
LOCATION:
DESCRIPTION:La crise sanitaire actuelle et les incertitudes liées à la baisse d’activité (voire parfois à la pérennité de l’entreprise) ont affecté fortement la fonction Finance, notamment dans l’organisation des clôtures comptables. Ce webinar sera l’occasion de revenir à la fois sur les principaux enseignements à tirer des dernières clôtures à distance et sur les priorités des futures clôtures déconfinées !   \n\nA l’issue de cette présentation, vous aurez l’opportunité d’échanger avec les intervenants afin de poser vos questions et partager vos expériences.\n\n\nIntervenants:\n\n\n	\n	Susanne Liepmann, Présidente FiPlus - susanne.liepmann@fi-plus.com\n	\n	\n	Jérôme Quero, Senior Manager EY – Conseil Comptable et Financier – Smartclose - jerome.quero@fr.ey.com\n	\n	\n	Benoît Schumacher, Associé EY – Conseil Comptable et Financier – Market Leader -  benoit.schumacher@fr.ey.com\n	\n\n\n\n	\n		\n			\n			Informations et Inscriptions >>ICI<<  \n			Un lien MS teams vous sera envoyé pour participer.\n			\n		\n	\n
BEGIN:VALARM
ACTION:DISPLAY
TRIGGER:-PT60M
DESCRIPTION:Webinar : Priorités de la fonction Finance (dé)confinée – à quoi ressemble une clôture mensuelle à la lumière du (dé)confinement ?
END:VALARM
END:VEVENT
END:VCALENDAR