BEGIN:VCALENDAR
VERSION:2.0
X-WR-TIMEZONE:Europe/Paris
PRODID:-//Audencia//NONSGML v1.0//EN
CALSCALE:GREGORIAN
BEGIN:VEVENT
SUMMARY:E-AfterFtour avec Audencia Alumni au Maroc
DTSTART:20200519T213000
DTEND:20200519T223000
UID:722
DTSTAMP:20260425T205841
LOCATION:
DESCRIPTION:L’équipe Audencia Alumni Maroc a le plaisir de vous convier à cet E-AfterFtour 2020\n\n\nCirconstances exceptionnelles, dispositif exceptionnel : Nous vous proposons une grande vidéo-conférence à laquelle nous prendrons tous part, afin de passer en revue l’actualité de notre réseau, prendre des nouvelles de tout le monde, et surtout, passer un moment convivial tous ensemble, dans la bonne humeur, avec vos sourires et votre bonne énergie, comme à l’accoutumée tout simplement ?\n\nNous étudions les options techniques à notre disposition et nous vous ferons parvenir les détails dès que possible.\n\nPour l’instant : just save the date : Mardi 19 mai prochain à 21h30\nTrès bonne fin de semaine à toutes et à tous !\n\nSi vous souhaitez vous joindre à cet événement, contactez Yassine sur la page Facebook Audencia Alumni Morocco!\n\n 
BEGIN:VALARM
ACTION:DISPLAY
TRIGGER:-PT60M
DESCRIPTION:E-AfterFtour avec Audencia Alumni au Maroc
END:VALARM
END:VEVENT
END:VCALENDAR