BEGIN:VCALENDAR
VERSION:2.0
X-WR-TIMEZONE:Europe/Paris
PRODID:-//Audencia//NONSGML v1.0//EN
CALSCALE:GREGORIAN
BEGIN:VEVENT
SUMMARY:Atelier : Partage de bonnes pratiques : renforcer sa eReputation professionnelle grâce à LinkedIn
DTSTART:20200520T173000
DTEND:20200520T200000
UID:721
DTSTAMP:20260425T210407
LOCATION:
DESCRIPTION:L’équipe du Club Marketing & Digital vous souhaite tous et toutes en bonne santé, ainsi que vos proches.\n \nL’épisode de confinement que nous venons de connaître a brutalement changé nos façons de travailler, et parfois aussi nos perspectives professionnelles. Le télétravail est devenu le quotidien de beaucoup d’entre nous, et dans ce contexte, les réseaux sociaux professionnels et les plateforme du type Zoom ont explosé leur trafic. De nouveaux usages se sont mis en place, et installer sa eReputation professionnelle est devenu incontournable.\n \nQuels sont donc les principaux changements et enjeux en 2020, en particulier sur LinkedIn ? \nComment optimiser son profil pour être vus par les bonnes personnes et convaincre recruteurs, partenaires, prospects ou clients ? Quels contenus partager ?\n \nVenez nous rejoindre pour un atelier d’échange et de partage de bonnes pratiques sur LinkedIn, le mercredi 20 mai de 17h30 à 20h.\n \nVenez retrouver d’autres membres du club, de profils très variés, pour partager votre point de vue, vos retour d’expérience, vos questions concrètes.\n\n \n\nInscriptions obligatoires pour recevoir le lien virtuel.
BEGIN:VALARM
ACTION:DISPLAY
TRIGGER:-PT60M
DESCRIPTION:Atelier : Partage de bonnes pratiques : renforcer sa eReputation professionnelle grâce à LinkedIn
END:VALARM
END:VEVENT
END:VCALENDAR