BEGIN:VCALENDAR
VERSION:2.0
X-WR-TIMEZONE:Europe/Paris
PRODID:-//Audencia//NONSGML v1.0//EN
CALSCALE:GREGORIAN
BEGIN:VEVENT
SUMMARY:Retour d'expérience : Projet humanitaire d'Antoine Fournier (MOS 19)
DTSTART:20200609T180000
DTEND:20200609T193000
UID:720
DTSTAMP:20260425T223706
LOCATION:
DESCRIPTION:Le Mastère Spécialisé en Management des Organisations de Sport (MS MOS) a le plaisir de vous inviter à un échange virtuel avec Antoine Fournier, diplômé du programme l'année dernière, le mardi 9 juin à 18h.\n\nEn parallèle de ses études au sein du MS MOS, Antoine avait décidé, en collaboration avec un ami diplômé en innovation sociale, d’unir leurs compétences afin de préparer un projet humanitaire autour du monde et de leur passion commune : le sport.\n\nVenez découvrir le parcours, le projet en lien avec l'association Horizon Sport et les réalisations d'Antoine lors de ces mois.\n \nLes inscriptions sont obligatoires pour assister à\ncette conversation virtuelle.\n\nQuelques vidéos :\n\n\n	Amigos Del Mar, Colombie : https://www.youtube.com/watch?v=pW3ulksiqc8&t=18s\n	Cross Jiu-Jitsu, Brésil : https://www.youtube.com/watch?v=KusBrGoG7ZQ\n	Novos Sonhos, Brésil : https://www.youtube.com/watch?v=yQcocu5idvc&t=16s\n\nRéseaux sociaux :\n\n\n	Facebook : https://www.facebook.com/HorizonSportEducationParLeSport/\n	Instagram : https://www.instagram.com/horizonsportfrance/?hl=fr\n\n\n 
BEGIN:VALARM
ACTION:DISPLAY
TRIGGER:-PT60M
DESCRIPTION:Retour d'expérience : Projet humanitaire d'Antoine Fournier (MOS 19)
END:VALARM
END:VEVENT
END:VCALENDAR