BEGIN:VCALENDAR
VERSION:2.0
X-WR-TIMEZONE:Europe/Paris
PRODID:-//Audencia//NONSGML v1.0//EN
CALSCALE:GREGORIAN
BEGIN:VEVENT
SUMMARY:Audencia Sport Business Influencers' party
DTSTART:20171124T190000
DTEND:20171124T235900
UID:72
DTSTAMP:20260425T223839
LOCATION:La Baleine Blanche - Port de la gare - 75013 Paris
DESCRIPTION:Chers diplômés,\n\n\nNous sommes heureux de vous convier le vendredi 24 novembre 2017 pour la soirée "Sport Business Influencer's party" à Paris dans un lieu magique à partir de 19h00 à la Baleine Blanche. Cette soirée est organisée à l'occasion des 25 ans du MOS.\n\nVenez retrouver vos camarades de promotion, réseauter, échanger avec les étudiants et les diplômés présents, vous renseigner sur ce qu'est devenu le master MOS dans une ambiance conviviale et décontractée.\n\nDes animations suprise vous seront proposées tout au long de la soirée.\n\nPour participer à la soirée, cliquer sur s'inscrire sur together en haut à droite de l'écran\n\nAu plaisir de vous retrouver nombreux le 24/11/2017,\nLes organisateurs\n 
BEGIN:VALARM
ACTION:DISPLAY
TRIGGER:-PT60M
DESCRIPTION:Audencia Sport Business Influencers' party
END:VALARM
END:VEVENT
END:VCALENDAR