BEGIN:VCALENDAR
VERSION:2.0
X-WR-TIMEZONE:Europe/Paris
PRODID:-//Audencia//NONSGML v1.0//EN
CALSCALE:GREGORIAN
BEGIN:VEVENT
SUMMARY:Webinar : L'aventure est accessible quand on ose s'engager en équipe
DTSTART:20200519T180000
DTEND:20200519T193000
UID:719
DTSTAMP:20260425T210006
LOCATION:
DESCRIPTION:Maxime, Thomas et Valentin forment tous les 3 Les Engagés, une équipe d'expédition polaire. Ils ne sont pas des pros comme Mike Horn ou des sportifs de haut niveau. Ils ont tous un métier classique et habitent à Paris. Et pourtant, ils se donnent les moyens d'organiser et de mener de grandes expéditions de A à Z, en autonomie complète. \n\nAprès la traversée ouest-est du Groenland en 2018, et l'ascension de l'Aconcagua (6962m) en 2019, ils viennent de rentrer de leur 3e expédition en autonomie, qui est aussi la plus dure expérience de leur vie : atteindre le Cap Nord (Norvège) à travers 3 semaines de nuit polaire. L'expédition est même passée au JT norvégien !\n\nPour atteindre ce point le plus au nord de l'Europe, ils ont dû trouver la force de surmonter les rudes épreuves que ce territoire polaire nous imposait chaque jour : nuit polaire, tempêtes, gorges infranchissables, maladie, forêts impénétrables, courants marins, avalanches... les péripéties ont été nombreuses et ont exigé une bonne dose d'humilité !\nMais aussi de dépassement de soi et surtout d'esprit d'équipe.\n\nNous vous donnons rendez-vous le mardi 19 mai à 18h pour voir comment l'aventure est accessible quand on ose s'engager en équipe #NeverStopDaring.\n \n\nLes inscriptions sont obligatoires pour participer à ce webinar :\nhttps://app.livestorm.co/engages-productions/audencia\n\n\n 
BEGIN:VALARM
ACTION:DISPLAY
TRIGGER:-PT60M
DESCRIPTION:Webinar : L'aventure est accessible quand on ose s'engager en équipe
END:VALARM
END:VEVENT
END:VCALENDAR