BEGIN:VCALENDAR
VERSION:2.0
X-WR-TIMEZONE:Europe/Paris
PRODID:-//Audencia//NONSGML v1.0//EN
CALSCALE:GREGORIAN
BEGIN:VEVENT
SUMMARY:TEDxNantes : Penser le jour d’après : comment le Covid-19 peut modifier l'organisation du travail ?
DTSTART:20200513T180000
DTEND:20200513T193000
UID:717
DTSTAMP:20260425T205956
LOCATION:
DESCRIPTION:La crise sanitaire impacte les entreprises de plein fouet.\nAlors que le déconfinement débute, des questions se posent désormais : un retour aux modes de fonctionnement d’avant crise est il envisageable et souhaitable ? Comment cette crise peut modifier l’organisation des activités de l'entreprise, les pratiques managériales ?\n\nTEDxNantes vous propose de développer ses premières pistes de réflexion lors de sa prochaine conversation en live avec l’intervention de Thibaut Bardon, professeur et responsable de la recherche en management à Audencia Business School et Laurent Maury, mathématicien, citoyen engagé et fondateur de la startup nantaise SMART MACADAM.\n\n? TEDxNantes vous donne rendez-vous ce mercredi 13 mai à partir de 18h sur sa page Facebook.\n\n
BEGIN:VALARM
ACTION:DISPLAY
TRIGGER:-PT60M
DESCRIPTION:TEDxNantes : Penser le jour d’après : comment le Covid-19 peut modifier l'organisation du travail ?
END:VALARM
END:VEVENT
END:VCALENDAR