BEGIN:VCALENDAR
VERSION:2.0
X-WR-TIMEZONE:Europe/Paris
PRODID:-//Audencia//NONSGML v1.0//EN
CALSCALE:GREGORIAN
BEGIN:VEVENT
SUMMARY:MBA Conversation #4
DTSTART:20200514T190000
DTEND:20200514T194500
UID:716
DTSTAMP:20260425T205904
LOCATION:
DESCRIPTION:During this period of lockdown, Audencia Alumni is organising a series of conversations to keep the connection going between current MBA students and alumni. These discussions will take place online (of course), over the coming weeks.\n\nFor the fourth gathering, prepare your questions and tune in on Thursday 14 May at 19:00 (Paris time) for a conversation with:\n \n\n	Karen Barrozzi (MBA 08), Asset Manager at Touax in Florida\n	Daniela Aguilera (MBA 11), Business Development Manager at Alstom in Illinois\n\n\n#MBA_Community
BEGIN:VALARM
ACTION:DISPLAY
TRIGGER:-PT60M
DESCRIPTION:MBA Conversation #4
END:VALARM
END:VEVENT
END:VCALENDAR