BEGIN:VCALENDAR
VERSION:2.0
X-WR-TIMEZONE:Europe/Paris
PRODID:-//Audencia//NONSGML v1.0//EN
CALSCALE:GREGORIAN
BEGIN:VEVENT
SUMMARY:Webinar - Ikigaï
DTSTART:20200525T100000
DTEND:20200525T110000
UID:715
DTSTAMP:20260425T210011
LOCATION:
DESCRIPTION:\nThématique :\nIkigaï,  concept japonais qui signifie « joie de vivre » ou « raison d’être ». C'est une démarche d'introspection dont l’objectif est de favoriser l’alignement entre vos goûts, vos talents, vos valeurs en relation avec les besoins du monde, et votre rémunération possible.\n \nIntervenant :\nAxelle Martinelli (FC SciencesCom 2008) :  Coach en évolution & reconversion professionnelle, spécialisée en Ikigaï.\n \nInscriptions en remplissant le formulaire suivant : http://www.coachevolution.fr/contact
BEGIN:VALARM
ACTION:DISPLAY
TRIGGER:-PT60M
DESCRIPTION:Webinar - Ikigaï
END:VALARM
END:VEVENT
END:VCALENDAR