BEGIN:VCALENDAR
VERSION:2.0
X-WR-TIMEZONE:Europe/Paris
PRODID:-//Audencia//NONSGML v1.0//EN
CALSCALE:GREGORIAN
BEGIN:VEVENT
SUMMARY:WEBINAR : 45 mn pour décrocher ton dream job en startup pendant le confinement
DTSTART:20200506T143000
DTEND:20200506T151500
UID:711
DTSTAMP:20260425T210032
LOCATION:
DESCRIPTION:"Hello ?\n \n\nTu n'as plus rien à regarder sur Netflix et tu as épuisé toutes les recettes de Marmiton ? Il est temps de trouver un job ou un stage ?\n\nMême en temps de confinement ? Oui oui ! \n \n\nJOB4 te présente son #1 webinar : « 45 minutes pour décrocher ton dreamjob dans les meilleures startups (même pendant le confinement) » ?\n \n\nOn te donne RDV le mercredi 6 mai à 14h30 pour un webinar avec Nicolas Fournier notre CEO & Founder et Cécile Salama notre Senior Sales & HeadHunter EMEA ! \n \n\nAu programme ? \n\n\n	\n	Quel est l’impact du COVID sur l’écosystème startup et le marché du recrutement ?\n	\n	\n	Est-ce que le monde des startups est fait pour toi ? \n	\n	\n	Où trouver ton dream job ? \n	\n	\n	Comment booster ta candidature et cartonner en entretien ? \n	\n	\n	Coaching \n	\n	\n	Questions & Réponses\n	\n\n \n\nPour s'inscrire : commente ce post Linkedin avec le #JobEnStartup ? https://bit.ly/3f1BiLx\n \n\nBonus : on coachera une ou deux personnes en live. Les gagnants seront tirés au sort parmi les commentaires ?"
BEGIN:VALARM
ACTION:DISPLAY
TRIGGER:-PT60M
DESCRIPTION:WEBINAR : 45 mn pour décrocher ton dream job en startup pendant le confinement
END:VALARM
END:VEVENT
END:VCALENDAR