BEGIN:VCALENDAR
VERSION:2.0
X-WR-TIMEZONE:Europe/Paris
PRODID:-//Audencia//NONSGML v1.0//EN
CALSCALE:GREGORIAN
BEGIN:VEVENT
SUMMARY:Conférence Isegoria - Antoine Auriol
DTSTART:20200507T183000
DTEND:20200507T193000
UID:710
DTSTAMP:20260425T205737
LOCATION:
DESCRIPTION:Les beaux jours arrivent et revoilà Isegoria plus belle que jamais. Les idées qui étaient encore à l’état de bourgeon cet hiver ont désormais fleuri. Isegoria innove et vous propose un live Instagram le Jeudi 7 Mai à 18h30 en compagnie d’ Antoine Auriol, pour apprendre à le connaître avant sa venue dans notre école à la rentrée 2020.\n \n\n\n	\n		\n			\n			\n				\n					\n						\n						SPEAKER\n						\n					\n				\n			\n			\n		\n	\n\n\n\n	\n		\n			 \n			\n			\n				\n					\n						\n						 \n\n						Antoine Auriol est champion du monde de kitesurf, sport qu’il veut démocratiser en le pratiquant dans des endroits insolites : un parc à Madrid, une carrière d’ocre en Provence et même son salon ! Il a fait de notre environnement son terrain de jeu partout à travers le monde, et il a désormais entrepris de le défendre en devenant un véritable ambassadeur de l’écologie. Il souhaite ainsi transmettre ses connaissances et sa sensibilité environnementale notamment grâce à son investissement dans de nombreuses émissions télévisées (L’air du temps, La quête des vents...) ainsi que dans tous ses projets digitaux. Il y met en avant des initiatives positives, individuelles et collectives, tout autour du globe.\n						\n					\n				\n			\n			\n		\n	\n\n \n\n\n	\n		\n			\n			\n				\n					\n						\n						C’est dans cette dynamique que compte s’inscrire le live inédit que nous organisons le Jeudi 7 Mai à 18h30. Nous avons à cœur que chacun d’entre vous puisse être acteur de ce live en posant d’ores et déjà vos questions à Antoine Auriol. Nous espérons vous y retrouver nombreux !\n						\n					\n				\n			\n			\n		\n	\n\n\n\n	\n		\n			\n			\n				\n					\n						\n						\n							\n								\n									\n									Pose ta question à Antoine → \n									\n								\n							\n						\n						\n					\n				\n			\n			\n		\n	\n\n\n\n	\n		\n			\n			\n				\n					\n						\n					\n				\n			\n			\n			\n			\n				\n					\n						\n						Le Pôle Conférences d’Isegoria\n\n						@antoineauriol\n						@ahrespire\n						@isegoria_audencia\n						@audencia\n						\n					\n				\n			\n			\n		\n	\n\n\n
BEGIN:VALARM
ACTION:DISPLAY
TRIGGER:-PT60M
DESCRIPTION:Conférence Isegoria - Antoine Auriol
END:VALARM
END:VEVENT
END:VCALENDAR