BEGIN:VCALENDAR
VERSION:2.0
X-WR-TIMEZONE:Europe/Paris
PRODID:-//Audencia//NONSGML v1.0//EN
CALSCALE:GREGORIAN
BEGIN:VEVENT
SUMMARY:IMM class of 2012 - IMM networking event followed by 5 year anniversary reunion
DTSTART:20170923T110000
DTEND:20170923T130000
UID:71
DTSTAMP:20260425T223736
LOCATION:Audencia Paris Campus  95 Rue Falguière 75015 Paris
DESCRIPTION:It's been 5 years already!\n\nIMM 2012 are organising a reunion on 23rd September and as part of the event would be delighted to invite current and past IMMs to a get together at Audencia's Paris campus (95 rue Falguière).\n\n \nMeet old friends and make new ones\nAll IMMs invited\n\n\n11.00-11.15: Welcome message by Pr. Olga Kapitskaia, director of the IMM programme\n11.15-11.45: Where are they  now: presentation of IMM 2012 careers and experiences in the past 5 years\n11.45-12.15: Informal networking and discussions between past and present students\n12.15-13.00: Refreshments\n\n \nFor old friends and classmates\nIMM 2012 only\n\n13.00 onwards: IMM 2012 together for lunch and more... \n 
BEGIN:VALARM
ACTION:DISPLAY
TRIGGER:-PT60M
DESCRIPTION:IMM class of 2012 - IMM networking event followed by 5 year anniversary reunion
END:VALARM
END:VEVENT
END:VCALENDAR