BEGIN:VCALENDAR
VERSION:2.0
X-WR-TIMEZONE:Europe/Paris
PRODID:-//Audencia//NONSGML v1.0//EN
CALSCALE:GREGORIAN
BEGIN:VEVENT
SUMMARY:Webinar - Atelier bonnes pratiques LinkedIn pour les architectes
DTSTART:20200423T090000
DTEND:20200423T103000
UID:709
DTSTAMP:20260425T205732
LOCATION:
DESCRIPTION:Comment valoriser votre expertise et celle de votre cabinet ? Développer votre visibilité et votre attractivité dans le respect de votre déontologie et sans perdre votre temps ?\n\nRejoignez Brigitte Neveu-Derotrie (GE 85) mardi matin pour un atelier de partage de bonnes pratiques entre confrères. \n\nNous partagerons quelques clés essentielles pour gagner du temps sur les réseaux sociaux:\n- Préciser vos objectifs,\n- Renforcer votre image et votre visibilité,\n- Développer votre réseau,\n- S'organiser pour y être efficace et régulier.\n\nL'inscription est obligatoire : https://bit.ly/2xAoV8o
BEGIN:VALARM
ACTION:DISPLAY
TRIGGER:-PT60M
DESCRIPTION:Webinar - Atelier bonnes pratiques LinkedIn pour les architectes
END:VALARM
END:VEVENT
END:VCALENDAR