BEGIN:VCALENDAR
VERSION:2.0
X-WR-TIMEZONE:Europe/Paris
PRODID:-//Audencia//NONSGML v1.0//EN
CALSCALE:GREGORIAN
BEGIN:VEVENT
SUMMARY:Virtual career fair season finale: live clinics & masterclasses
DTSTART:20200601T000000
DTEND:20200601T235900
UID:706
DTSTAMP:20260425T205812
LOCATION:
DESCRIPTION:Attend a virtual career fair this spring!\n\nWhether you are a student or an alum, if you are interested in pursuing graduate programmes, sourcing internships or identifying experienced hire opportunities, then the virtual career fair series is for you.\n\nEFMD (European Foundation for Management Development) and Highered have mobilised forces and launched the EFMD Virtual Career Fair Series by Highered. This initiative allows EFMD member schools like Audencia to connect their students and alumni with companies and organisations from around the globe, in a sophisticated job fair simulation environment that enables real-time interaction between recruiters and candidates.\n\nThe season finale will kick-off on Monday 1 June with a brief opening ceremony and will remain open throughout the day for viewing. You will be able to participate in live CV optimisation clinics that will take place throughout the day, as well as see the companies that will be participating, the webcast agenda and view the masterclasses that are available to you in the “Seminars” section of the platform.\n\nTargeted profiles:\n\n	Current students seeking internships\n	Students and recent graduates seeking graduate programme and/or full-time opportunities\n	Alumni seeking experienced hire positions\n\n \n\nTo participate in the virtual career fair season finale on 1 June\ncreate your account on\nAudencia's Highered Global Job platform \n(then go to the tab called EFMD Virtual Career Fairs)\n\n \n\n \n\n\n\n \n\n\n \n\n\n\n 
BEGIN:VALARM
ACTION:DISPLAY
TRIGGER:-PT60M
DESCRIPTION:Virtual career fair season finale: live clinics & masterclasses
END:VALARM
END:VEVENT
END:VCALENDAR