BEGIN:VCALENDAR
VERSION:2.0
X-WR-TIMEZONE:Europe/Paris
PRODID:-//Audencia//NONSGML v1.0//EN
CALSCALE:GREGORIAN
BEGIN:VEVENT
SUMMARY:Student & alumni virtual career fair series: Tech/Telecom/eCommerce [APAC]
DTSTART:20200521T000000
DTEND:20200521T235900
UID:704
DTSTAMP:20260425T205856
LOCATION:
DESCRIPTION:Attend a virtual career fair this spring!\n\nWhether you are a student or an alum, if you are interested in pursuing graduate programmes, sourcing internships or identifying experienced hire opportunities, then the virtual career fair series is for you.\n\nEFMD (European Foundation for Management Development) and Highered have mobilised forces and launched the EFMD Virtual Career Fair Series by Highered. This initiative allows EFMD member schools like Audencia to connect their students and alumni with companies and organisations from around the globe, in a sophisticated job fair simulation environment that enables real-time interaction between recruiters and candidates.\n\n\n\n	DATE: Thursday 21 May\n	FOCUS: Tech/Telecom/eCommerce​\n	REGION: APAC\n\n\nTargeted profiles:\n\n	Current students seeking internships\n	Students and recent graduates seeking graduate programme and/or full-time opportunities\n	Alumni seeking experienced hire positions\n\n \n\nTo participate in the virtual career fair on 21 May\ncreate your account today on\nAudencia's Highered Global Job platform \n(then go to the tab called EFMD Virtual Career Fairs)\n\n \n\nThis will enable you to attend one or several career fairs, check schedules, and pre-register for the fairs, in order to receive up to date information regarding the specific fair(s) that you are interested in attending.\n \n\n\n\n \n\n\nSPRING fair schedule:\n\n\n	Tuesday 28 April 2020, General, EMEA\n	Thursday 30 April 2020, General, APAC\n	Tuesday 5 May 2020, FMCG/Retail/Luxury, EMEA\n	Thursday 7 May 2020, FMCG/Retail/Luxury, APAC\n	Tuesday 12 May 2020, Banking/Finance/Consulting, EMEA\n	Thursday 14 May 2020, Banking/Finance/Consulting, APAC\n	Tuesday 19 May 2020, Tech/Telecom/eCommerce, EMEA\n	Thursday 21 May 2020, Tech/Telecom/eCommerce, APAC\n	Tuesday 26 May 2020, Energy/Industrial/Engineering, EMEA\n	Thursday 28 May 2020, Energy/Industrial/Engineering, APAC\n	Tuesday 2 June 2020, Biotech/Pharma, EMEA\n	Thursday 4 June 2020, Biotech/Pharma, APAC\n\n \n\n\n\n 
BEGIN:VALARM
ACTION:DISPLAY
TRIGGER:-PT60M
DESCRIPTION:Student & alumni virtual career fair series: Tech/Telecom/eCommerce [APAC]
END:VALARM
END:VEVENT
END:VCALENDAR