BEGIN:VCALENDAR
VERSION:2.0
X-WR-TIMEZONE:Europe/Paris
PRODID:-//Audencia//NONSGML v1.0//EN
CALSCALE:GREGORIAN
BEGIN:VEVENT
SUMMARY:AAGEF event in New York, USA
DTSTART:20170725T183000
DTEND:20170725T183000
UID:70
DTSTAMP:20260425T205733
LOCATION:SparksLab 25 W. 39th 14th Floor New York
DESCRIPTION:\n\n\nThe AAGEF is pleased to invite you to a discussion with Denis Jacquet, Entrepreneur and Author of "Uberization: An enemy wishing you good?"\n \n“Should we question the digital age or take it for granted?”\n\nSparksLab, 25 W. 39th, 14th floor, New York\n \nTuesday, July 25, 2017\n6:30 p.m. – Registration\n6:45 p.m. – Welcome remarks & Keynote speaker presentation\n7: 45p.m. – Q&A\n8:00 p.m. – Closing remarks and cocktail\n\nFor more information and RSVP: https://www.eventbrite.com/e/should-we-question-the-digital-age-or-take-it-for-granted-tickets-36166693554?aff=aagef_linkedin\n 
BEGIN:VALARM
ACTION:DISPLAY
TRIGGER:-PT60M
DESCRIPTION:AAGEF event in New York, USA
END:VALARM
END:VEVENT
END:VCALENDAR