BEGIN:VCALENDAR
VERSION:2.0
X-WR-TIMEZONE:Europe/Paris
PRODID:-//Audencia//NONSGML v1.0//EN
CALSCALE:GREGORIAN
BEGIN:VEVENT
SUMMARY:Webinar: Power in the workplace
DTSTART:20170426T193000
DTEND:20170426T204500
UID:7
DTSTAMP:20260425T223736
LOCATION:Online
DESCRIPTION:Many people shy away from the idea of power at work. They expect good work to be rewarded.  They want to avoid “office politics”. In fact, power is pervasive in organizations. \n \nIn this webinar, Professor Jeffrey Pfeffer will explore some of the research about power in the workplace and show different strategies for getting what you want and making power work for you.\n \nWe will consider:\n\n	What social science can tell us about the power in the workplace\n	Why getting things done (and especially making change happen) requires political skills\n	How your control of resources (not limited to money) is a critical source of power\n	The importance of persistence\n	Why and how you must make critical relationships work.\n\nEveryone who registers will have the opportunity to complete a political skills inventory which will allow you to evaluate your strengths against different dimensions of power.\n \nPlease register here to attend this webinar\n \nAll attendees will receive the meeting slides, a recording and a resource pack.
BEGIN:VALARM
ACTION:DISPLAY
TRIGGER:-PT60M
DESCRIPTION:Webinar: Power in the workplace
END:VALARM
END:VEVENT
END:VCALENDAR