BEGIN:VCALENDAR
VERSION:2.0
X-WR-TIMEZONE:Europe/Paris
PRODID:-//Audencia//NONSGML v1.0//EN
CALSCALE:GREGORIAN
BEGIN:VEVENT
SUMMARY:MBA Conversation #3
DTSTART:20200430T174500
DTEND:20200430T191500
UID:694
DTSTAMP:20260425T205851
LOCATION:
DESCRIPTION:During this period of lockdown, Audencia Alumni is organising a series of conversations to keep the connection going between current MBA students and alumni. These discussions will take place online (of course), over the coming weeks.\n\nFor the third gathering, prepare your questions and tune in on Thursday 30 April at 17:45 (Paris time) for a conversation with:\n\nFrom 17:45 to 18:30:\n\n	Maita Malilong (MBA 07), Head of IT Services and Operations, Bridgestone EMEA (Belgium)\n	Vincent Usache (MBA 10), CEO, Microphyt\n\n\nFrom 18:30 to 19:15:\n\n\n	Florent Besnard (MBA 14), Business Developer, Les Têtes de l’Art\n	Hasnae Niang (MBA 14), QA Director, Voisin Consulting Life Sciences (VCLS)\n\n\n#MBA_Community
BEGIN:VALARM
ACTION:DISPLAY
TRIGGER:-PT60M
DESCRIPTION:MBA Conversation #3
END:VALARM
END:VEVENT
END:VCALENDAR