BEGIN:VCALENDAR
VERSION:2.0
X-WR-TIMEZONE:Europe/Paris
PRODID:-//Audencia//NONSGML v1.0//EN
CALSCALE:GREGORIAN
BEGIN:VEVENT
SUMMARY:MBA Conversation #2
DTSTART:20200423T180000
DTEND:20200423T190000
UID:693
DTSTAMP:20260425T223846
LOCATION:
DESCRIPTION:During this period of lockdown, Audencia Alumni is organising a series of conversations to keep the connection going between current MBA students and alumni. These discussions will take place online (of course), over the coming weeks.\n\nFor the second gathering, prepare your questions and tune in on Thursday 23 April at 18:00 (Paris time) for a conversation with:\n \n\n	Zachary Stokes (MBA 14), Communication Strategy & Brand Manager at Edmond de Rothschild Foundations\n	Siddharth Akolkar (IMM 10), Business Development Associate at BioSyent Inc.\n\n\n#MBA_Community
BEGIN:VALARM
ACTION:DISPLAY
TRIGGER:-PT60M
DESCRIPTION:MBA Conversation #2
END:VALARM
END:VEVENT
END:VCALENDAR