BEGIN:VCALENDAR
VERSION:2.0
X-WR-TIMEZONE:Europe/Paris
PRODID:-//Audencia//NONSGML v1.0//EN
CALSCALE:GREGORIAN
BEGIN:VEVENT
SUMMARY:MBA Conversation #1
DTSTART:20200416T180000
DTEND:20200416T190000
UID:692
DTSTAMP:20260425T205734
LOCATION:
DESCRIPTION:During this period of lockdown, Audencia Alumni is organising a series of conversations to keep the connection going between current MBA students and alumni. These discussions will take place online (of course), over the coming weeks.\n\nFor the inaugural gathering, prepare your questions and tune in on Thursday 16 April at 18:00 (Paris time) for a conversation with:\n \n\n	Jerôme Beilvert (MBA 10), Vice President Milling at BOMAG GmbH\n	Laurent Pataillot (EuroMBA 19), Freelance artist & Creative Director at  Dupont & Dupond Interactive\n\n\n#MBA_Community
BEGIN:VALARM
ACTION:DISPLAY
TRIGGER:-PT60M
DESCRIPTION:MBA Conversation #1
END:VALARM
END:VEVENT
END:VCALENDAR