BEGIN:VCALENDAR
VERSION:2.0
X-WR-TIMEZONE:Europe/Paris
PRODID:-//Audencia//NONSGML v1.0//EN
CALSCALE:GREGORIAN
BEGIN:VEVENT
SUMMARY:Webinar: Daniel Porot on finding a job in a time of crisis
DTSTART:20200428T130000
DTEND:20200428T140000
UID:691
DTSTAMP:20260425T210029
LOCATION:
DESCRIPTION:Produced by Sensible Media for a small group of top notch European business schools, Audencia continues to provide career development webinars for students and alumni. On Tuesday 28 April from 13:00 to 14:00 (Paris time), Daniel Porot* will share his thoughts and advice on finding a job in a time of crisis.\n\nCompanies are finding it hard at the moment to focus on anything but cashflow and short-term priorities. For many, recruitment is frozen and layoffs have started. To anyone looking for work might it can feel like the job market has closed.  But, paradoxically, companies face acute skill shortages trying to handle the crisis.\n\nIn this webinar, Daniel Porot will show how job seekers who can adapt their approach appropriately can still find opportunities.\n\n \nSOLD OUT!\nAudencia has sold out of live tickets but you can wtill register for access to the recording\nUse the registration link to request the recording\nYou will receive a message after the webinar with details of how to access\n\nREGISTRATION LINK\n\n\n*Daniel Porot lectures on career design and job hunting at INSEAD, Columbia, IMD, Kellogg, London Business School, Stanford, Wharton and Audencia. Daniel co-taught Richard N. Bolles' (author of What Color Is Your Parachute?) two-week summer workshop for 20 years. He has trained more than 115,000 people in 60 countries and has enabled over 2 million people to be trained using his methods. He is the author of 22 books (including four US and European bestsellers). More information (and free careers materials) at www.Porot.com
BEGIN:VALARM
ACTION:DISPLAY
TRIGGER:-PT60M
DESCRIPTION:Webinar: Daniel Porot on finding a job in a time of crisis
END:VALARM
END:VEVENT
END:VCALENDAR