BEGIN:VCALENDAR
VERSION:2.0
X-WR-TIMEZONE:Europe/Paris
PRODID:-//Audencia//NONSGML v1.0//EN
CALSCALE:GREGORIAN
BEGIN:VEVENT
SUMMARY:Webinar - Je trouve une idée d'entreprise qui me ressemble
DTSTART:20200416T143000
DTEND:20200416T160000
UID:690
DTSTAMP:20260425T205823
LOCATION:
DESCRIPTION:Frédéric Siedlis (EXEC MBA 19) a co-fondé et co-dirige la Start-Up IVES qui propose un parcours digital et humain d’accompagnement à la création d’entreprise.\n \nDans le cadre de la crise actuelle, il a décidé d’ouvrir sa plateforme en gratuit pendant 1 mois et demi et réalise des Webinairs gratuit sur le thème de l’entrepreneuriat.\n \nLe prochain Webinair a lieu le jeudi 16 avril 2020 à 14h30 sur le thème : « Je trouve une idée d’entreprise qui me ressemble ».\n\nInscriptions par ici : https://zoom.us/meeting/register/tZMtduGsqDMjmHCkCctVnkut_6EhGkfQ2w\n 
BEGIN:VALARM
ACTION:DISPLAY
TRIGGER:-PT60M
DESCRIPTION:Webinar - Je trouve une idée d'entreprise qui me ressemble
END:VALARM
END:VEVENT
END:VCALENDAR