BEGIN:VCALENDAR
VERSION:2.0
X-WR-TIMEZONE:Europe/Paris
PRODID:-//Audencia//NONSGML v1.0//EN
CALSCALE:GREGORIAN
BEGIN:VEVENT
SUMMARY:Alumni afterwork in Berlin, Germany
DTSTART:20170723T183000
DTEND:20170723T200000
UID:69
DTSTAMP:20260425T223846
LOCATION:
DESCRIPTION:Are you an alum, a student, an intern or simply a friend of Audencia?\n\nOn the occasion of Associate Professor Christine Naschberger's visit to Berlin, come and meet her for afterwork refreshments on 23rd July from 18:30 at Zollpackhof Biergarten.\n\nA great opportunity to catch up on news about friends, classmates and Audencia.\n\n 
BEGIN:VALARM
ACTION:DISPLAY
TRIGGER:-PT60M
DESCRIPTION:Alumni afterwork in Berlin, Germany
END:VALARM
END:VEVENT
END:VCALENDAR