BEGIN:VCALENDAR
VERSION:2.0
X-WR-TIMEZONE:Europe/Paris
PRODID:-//Audencia//NONSGML v1.0//EN
CALSCALE:GREGORIAN
BEGIN:VEVENT
SUMMARY:Webinar: remote story production during lockdown
DTSTART:20200410T140000
DTEND:20200410T143000
UID:689
DTSTAMP:20260425T205859
LOCATION:
DESCRIPTION:Rachel Cooper (MBA 18) is Communication & Marketing Coordinator with Newsbridge in Paris. She is delighted to share the opportunity of a webinar with TF1 Media Factory about the challenges of remote story production during the lockdown.\n\nDate: Friday 10 April\nTime: 14:00-14:30 (Paris time)\n \nREGISTER HERE\n\nThe presentation will be in French, but an English subtitled version will be available afterwards. There will be an English/French Q&A session at the end. 
BEGIN:VALARM
ACTION:DISPLAY
TRIGGER:-PT60M
DESCRIPTION:Webinar: remote story production during lockdown
END:VALARM
END:VEVENT
END:VCALENDAR