BEGIN:VCALENDAR
VERSION:2.0
X-WR-TIMEZONE:Europe/Paris
PRODID:-//Audencia//NONSGML v1.0//EN
CALSCALE:GREGORIAN
BEGIN:VEVENT
SUMMARY:Webinar - 10 conseils pour développer la visibilité de votre activité sur les réseaux sociaux
DTSTART:20200416T100000
DTEND:20200416T110000
UID:688
DTSTAMP:20260425T205849
LOCATION:
DESCRIPTION:Monsieur Lucien, fondé par Julien TOURME (Bachelor 08 + SciencesCom 10), une série des webinars.\n\n? Le 16 avril à 10h !\n\n? Au programme : "10 conseils pour développer la visibilité de votre activité sur les réseaux sociaux​"\n\n?? Pour s'inscrire, c'est juste ici : https://bit.ly/2yhUvYg​
BEGIN:VALARM
ACTION:DISPLAY
TRIGGER:-PT60M
DESCRIPTION:Webinar - 10 conseils pour développer la visibilité de votre activité sur les réseaux sociaux
END:VALARM
END:VEVENT
END:VCALENDAR