BEGIN:VCALENDAR
VERSION:2.0
X-WR-TIMEZONE:Europe/Paris
PRODID:-//Audencia//NONSGML v1.0//EN
CALSCALE:GREGORIAN
BEGIN:VEVENT
SUMMARY:Webinar - Utiliser Facebook pour développer son activité
DTSTART:20200409T100000
DTEND:20200409T110000
UID:687
DTSTAMP:20260425T210204
LOCATION:
DESCRIPTION:Monsieur Lucien, fondé par Julien TOURME (Bachelor 08 + SciencesCom 10), propose une série des webinars.\n\n? Le 9 avril à 10h !\n\n? Au programme : "Comment utiliser Facebook pour développer son activité ?​"\n\n?? Pour s'inscrire, c'est juste ici : https://bit.ly/2w6gIbc​
BEGIN:VALARM
ACTION:DISPLAY
TRIGGER:-PT60M
DESCRIPTION:Webinar - Utiliser Facebook pour développer son activité
END:VALARM
END:VEVENT
END:VCALENDAR