BEGIN:VCALENDAR
VERSION:2.0
X-WR-TIMEZONE:Europe/Paris
PRODID:-//Audencia//NONSGML v1.0//EN
CALSCALE:GREGORIAN
BEGIN:VEVENT
SUMMARY:Webinar - Utiliser LinkedIn pour développer son activité
DTSTART:20200402T100000
DTEND:20200402T110000
UID:686
DTSTAMP:20260425T205813
LOCATION:
DESCRIPTION:Monsieur Lucien, fondé par Julien TOURME (Bachelor 08 + SciencesCom 10), propose une série des webinars.\n\n? Le 2 avril à 10h !\n\n? Au programme : "Comment utiliser LinkedIn pour développer son activité ?​"\n\n?? Pour s'inscrire, c'est juste ici : bit.ly/webinarml-linkedin\n\n
BEGIN:VALARM
ACTION:DISPLAY
TRIGGER:-PT60M
DESCRIPTION:Webinar - Utiliser LinkedIn pour développer son activité
END:VALARM
END:VEVENT
END:VCALENDAR