BEGIN:VCALENDAR
VERSION:2.0
X-WR-TIMEZONE:Europe/Paris
PRODID:-//Audencia//NONSGML v1.0//EN
CALSCALE:GREGORIAN
BEGIN:VEVENT
SUMMARY:WWF's CN Tower climb for nature goes virtual
DTSTART:20200404T090000
DTEND:20200405T170000
UID:684
DTSTAMP:20260425T205728
LOCATION:
DESCRIPTION:#VirtualCNTowerClimb\n\nLast year Audencia's Alumni in Toronto joined the CN Tower Climb for Nature. This year, WWF-Canada is transitioning to a virtual event.\n\nInstead of climbing 1,776 steps up the tower, WWF-Canada is asking participants to set aside time on Saturday 4 April or Sunday 5 April, pick a challenge that works best for you, and work up a sweat for nature.\n\nClément Marlin (GE 07), works for WWF in Toronto and trained last year's team before the climb. He says "Of course there won't be a huge sporting prowess this year, but we are thinking about ways of keeping up the energy levels for the event and for nature, and how to continue with a virtual commitment to preserve nature." And he concludes by looking towards next year "Rendez-vous l'année prochaine!"\n\n \nTo sponsor the Audencia Alumni team or to join the event yourself\n FOLLOW THIS LINK!\n \n\n
BEGIN:VALARM
ACTION:DISPLAY
TRIGGER:-PT60M
DESCRIPTION:WWF's CN Tower climb for nature goes virtual
END:VALARM
END:VEVENT
END:VCALENDAR