BEGIN:VCALENDAR
VERSION:2.0
X-WR-TIMEZONE:Europe/Paris
PRODID:-//Audencia//NONSGML v1.0//EN
CALSCALE:GREGORIAN
BEGIN:VEVENT
SUMMARY:Webinar: Evolution de l'impact du Covid-19 en Chine & en France
DTSTART:20200327T090000
DTEND:20200327T100000
UID:683
DTSTAMP:20260425T205817
LOCATION:
DESCRIPTION:La CCI FRANCE CHINE et son Président, M. Christophe Lauras, vous proposent un webinar sur l’évolution de l'impact du Covid-19 en Chine mais aussi en France, le vendredi 27 mars à 9h (heure française) / 16h (heure de Chine GMT+8).\n\nM. Laurent Bili, Ambassadeur de France en Chine et M. Jean-Marc Fenet, Ministre Conseiller pour les Affaires Economiques - Ambassade de France en Chine, reviendront sur les actions menées pour accompagner la communauté française, la situation sanitaire en France et répondront aux questions des entreprises françaises implantées en Chine.\n \n\n	Date : vendredi 27 Mars 2020\n	Horaire : 9h-10h (heure française) / 16h-17h (heure de Chine GMT+8 )\n	Langue : français\n	Lieu: visio-conférence\n	 \n\nPour participer au webinar et poser vos questions, merci de remplir le formulaire d'inscription. Le lien d'accès vous sera envoyé avec votre mail de confirmation d'inscription.\n\nRenseignements: sh-event@ccifc.org\n\n\nINSCRIPTION\nScannez le QR Code\n\n\n\n\n
BEGIN:VALARM
ACTION:DISPLAY
TRIGGER:-PT60M
DESCRIPTION:Webinar: Evolution de l'impact du Covid-19 en Chine & en France
END:VALARM
END:VEVENT
END:VCALENDAR