BEGIN:VCALENDAR
VERSION:2.0
X-WR-TIMEZONE:Europe/Paris
PRODID:-//Audencia//NONSGML v1.0//EN
CALSCALE:GREGORIAN
BEGIN:VEVENT
SUMMARY:RH à l'ère du covid-19 : comment recruter et bien communiquer ?
DTSTART:20200326T143000
DTEND:20200326T150000
UID:682
DTSTAMP:20260425T223845
LOCATION:
DESCRIPTION:\n	\n		\n			\n			100% télétravail pour vos équipes, recrutements décalés ou annulés, communication de crise pour votre marque employeur,...\n			\n			La situation que nous vivons tous aujourd'hui est inédite, à la fois personnellement et professionnellement. Pour les RH, elle apporte son lot de problématiques nouvelles, à adresser souvent dans l'urgence.\n			\n			JobTeaser a donc décidé de tenir un webinar dès jeudi, pour donner un maximum de réponses à toutes ces nouvelles interrogations et vous donner l'opportunité d'échanger avec vos pairs sur les difficultés rencontrées pendant cette période.\n			 \n\n			Les inscriptions\n			\n		\n	\n
BEGIN:VALARM
ACTION:DISPLAY
TRIGGER:-PT60M
DESCRIPTION:RH à l'ère du covid-19 : comment recruter et bien communiquer ?
END:VALARM
END:VEVENT
END:VCALENDAR