BEGIN:VCALENDAR
VERSION:2.0
X-WR-TIMEZONE:Europe/Paris
PRODID:-//Audencia//NONSGML v1.0//EN
CALSCALE:GREGORIAN
BEGIN:VEVENT
SUMMARY:Séances d'hypnothérapie COVID-19
DTSTART:20200325T183000
DTEND:20200415T193000
UID:681
DTSTAMP:20260425T210012
LOCATION:
DESCRIPTION:Aurélien Guihéneuf, hypnothérapeute à Paris (Scom 2A 06), vous propose 4 séances d'hypnothérapie pour mieux vivre cette situation particulière liée au #COVID19.\n\nGratuit sur inscription : https://lnkd.in/gANjbVX\n\n
BEGIN:VALARM
ACTION:DISPLAY
TRIGGER:-PT60M
DESCRIPTION:Séances d'hypnothérapie COVID-19
END:VALARM
END:VEVENT
END:VCALENDAR