BEGIN:VCALENDAR
VERSION:2.0
X-WR-TIMEZONE:Europe/Paris
PRODID:-//Audencia//NONSGML v1.0//EN
CALSCALE:GREGORIAN
BEGIN:VEVENT
SUMMARY:Conférence : La communication non sexiste
DTSTART:20170905T183000
DTEND:20170905T213000
UID:68
DTSTAMP:20260425T205715
LOCATION:Audencia SciencesCom - MEDIACAMPUS 41 boulevard de La Prairie au Duc 44 200 Nantes
DESCRIPTION:Après le vif intérêt suscité par sa campagne No More Clichés en 2016, le réseau des femmes de l'association Communication & Entreprise : "Toutes Femmes, Toutes Communicantes", poursuit son engagement en faveur d'une communication non sexiste.  \n\n"Toutes Femmes, Toutes Communicantes", le réseau APCOM et Audencia SciencesCom vous invitent à la conférence : "La communication non sexiste" animée par Laurence Beldowski, pilote du réseau "Toutes Femmes, Toutes Communicantes" et Directrice générale de Communication & Entreprise..\n\nUn cocktail vous sera offert à l'issue de la conférence. 
BEGIN:VALARM
ACTION:DISPLAY
TRIGGER:-PT60M
DESCRIPTION:Conférence : La communication non sexiste
END:VALARM
END:VEVENT
END:VCALENDAR