BEGIN:VCALENDAR
VERSION:2.0
X-WR-TIMEZONE:Europe/Paris
PRODID:-//Audencia//NONSGML v1.0//EN
CALSCALE:GREGORIAN
BEGIN:VEVENT
SUMMARY:REPORTE - Club Assurance - Afterwork
DTSTART:20200603T190000
DTEND:20200603T220000
UID:679
DTSTAMP:20260425T205729
LOCATION:Synaxia Conseil 3 rue Chauveau Lagarde 75008 Paris
DESCRIPTION:Chers membres du club assurance d’Audencia,\n \nVenez partager un moment de convivialité pour ce 1er afterwork de l’année 2020, qui se déroulera mercredi 3 juin à partir de 19h, dans les locaux de Synaxia Conseil, 3 rue Chauveau Lagarde, Paris 8ème (près de Madeleine)\n\nAu programme : 2 pitchs suivis d’un cocktail informel \nLe 1er pitch est sur le thème de l’épargne « comment inciter les Français à réorienter leur épargne ? », le 2nd pitch est sur un thème d’actualité « impact du Coronavirus en assurance » ?\nN’hésitez pas à me contacter si vous avez des remarques / questions, et bien sûr à faire passer le mot autour de vous.\n \nNous étions une vingtaine aux afterworks l’an dernier, nous comptons maintenant plus de 150 membres sur la plateforme Together – je compte donc à nouveau sur vous pour votre présence !\n \nA très bientôt,\nOriane – Ambassadrice du club
BEGIN:VALARM
ACTION:DISPLAY
TRIGGER:-PT60M
DESCRIPTION:REPORTE - Club Assurance - Afterwork
END:VALARM
END:VEVENT
END:VCALENDAR